BEGIN:VCALENDAR
VERSION:2.0
PRODID:-//Department Of Education//474a1d94-dbe1-4e43-8ac3-a3aec4e1a3b1
BEGIN:VTIMEZONE
TZID:Australia/Sydney
TZURL:http://tzurl.org/zoneinfo-outlook/Australia/Sydney
X-LIC-LOCATION:Australia/Sydney
BEGIN:STANDARD
TZOFFSETFROM:+1100
TZOFFSETTO:+1000
TZNAME:AEST
DTSTART:19700405T030000
RRULE:FREQ=YEARLY;BYMONTH=4;BYDAY=1SU
END:STANDARD
BEGIN:DAYLIGHT
TZOFFSETFROM:+1000
TZOFFSETTO:+1100
TZNAME:AEDT
DTSTART:19701004T020000
RRULE:FREQ=YEARLY;BYMONTH=10;BYDAY=1SU
END:DAYLIGHT
END:VTIMEZONE
CALSCALE:GREGORIAN
X-WR-TIMEZONE:Australia/Sydney
BEGIN:VEVENT
DTSTART;TZID=Australia/Sydney:20200309T153000
DTEND;TZID=Australia/Sydney:20200309T180000
DTSTAMP:20200309T000000Z
UID:a833a056-703c-4652-b990-c78631e08ad3
LOCATION:Ross Hill School hall 
SUMMARY;LANGUAGE=en-us:Parent Teacher Interviews 
SEQUENCE:0
DESCRIPTION:Parent Teacher Interviews are being held on Monday 9 March, giving parents an opportunity to meet with their child?s teacher to discuss progress so far this year. The appointment booking sheet will be sent home soon. Please select 3 possible appointment times and return to your child's teacher as soon as possible. Please note siblings on the booking sheet to assist with making consecutive appointments. Interviews will be held in the School Hall commencing at 3:30 and are in 15 minute slots. At Ross Hill Public School the parent and teacher partnership is valued in the education journey of our students.  
END:VEVENT
TRANSP:TRANSPARENT
END:VCALENDAR
