BEGIN:VCALENDAR
VERSION:2.0
PRODID:-//Department Of Education//228371d4-88f9-47d9-a706-fb259adcc312
BEGIN:VTIMEZONE
TZID:Australia/Sydney
TZURL:http://tzurl.org/zoneinfo-outlook/Australia/Sydney
X-LIC-LOCATION:Australia/Sydney
BEGIN:STANDARD
TZOFFSETFROM:+1100
TZOFFSETTO:+1000
TZNAME:AEST
DTSTART:19700405T030000
RRULE:FREQ=YEARLY;BYMONTH=4;BYDAY=1SU
END:STANDARD
BEGIN:DAYLIGHT
TZOFFSETFROM:+1000
TZOFFSETTO:+1100
TZNAME:AEDT
DTSTART:19701004T020000
RRULE:FREQ=YEARLY;BYMONTH=10;BYDAY=1SU
END:DAYLIGHT
END:VTIMEZONE
CALSCALE:GREGORIAN
X-WR-TIMEZONE:Australia/Sydney
BEGIN:VEVENT
DTSTART;TZID=Australia/Sydney:20200225T091534
DTEND;TZID=Australia/Sydney:20200226T151500
DTSTAMP:20200225T000000Z
UID:98ece382-4c88-4226-87be-602b1d8bbfce
LOCATION:Ross Hill Publiic School 
SUMMARY;LANGUAGE=en-us:School Photos 
SEQUENCE:0
DESCRIPTION:Our school photos will be taken this Tuesday and Wednesday. Students are asked to wear their summer school uniform including black shoes. The schedule is as follows: Tuesday -Kindergarten , Year 2, Years 5 and 6. Family Photos, school leaders and monitors will be taken through break times. Wednesday-Support classes, Year 1, Year 3 and Year 4.  
END:VEVENT
TRANSP:TRANSPARENT
END:VCALENDAR
